BEGIN:VCALENDAR
VERSION:2.0
PRODID:iheid
X-WR-TIMEZONE:Europe/Zurich
BEGIN:VTIMEZONE
TZID:Europe/Zurich
X-LIC-LOCATION:Europe/Zurich
END:VTIMEZONE
BEGIN:VEVENT
UID:69e53952dd942
DTSTART:20211206T171554Z
SEQUENCE:0
TRANSP:OPAQUE
DTEND:20211206T190000Z
LOCATION:Auditorium A1 A and online
SUMMARY:Debating the Facebook Oversight Board: What lessons for human right
 s protection and digital platform governance? 
CLASS:PUBLIC
DESCRIPTION:Debating the Facebook Oversight Board: What lessons for human r
 ights protection and digital platform governance?  by Irene Khan\, Maina K
 iai\, Nico Krisch\, Peggy Hicks\, and Marietje Schaake.\n\n\n\nEvent conne
 ction: 
DTSTAMP:20260419T222138Z
END:VEVENT
END:VCALENDAR