BEGIN:VCALENDAR
VERSION:2.0
PRODID:iheid
X-WR-TIMEZONE:Europe/Zurich
BEGIN:VTIMEZONE
TZID:Europe/Zurich
X-LIC-LOCATION:Europe/Zurich
END:VTIMEZONE
BEGIN:VEVENT
UID:69e8e6bb7b34d
DTSTART:20211209T113000Z
SEQUENCE:0
TRANSP:OPAQUE
DTEND:20211209T121500Z
URL:https://zoom.us/webinar/register/WN_ZNoDrKkaR-qlqoseN5nJKQ
LOCATION:No location specified
SUMMARY:Advocacy in International Affairs Q&A
CLASS:PUBLIC
DESCRIPTION:Advocacy in International Affairs Q&amp\;A by Davide Rodogno &a
 mp\; Guillemette Carlucci.\n\n\n\nEvent connection: https://zoom.us/webina
 r/register/WN_ZNoDrKkaR-qlqoseN5nJKQ
DTSTAMP:20260422T171819Z
END:VEVENT
END:VCALENDAR