BEGIN:VCALENDAR
VERSION:2.0
PRODID:iheid
X-WR-TIMEZONE:Europe/Zurich
BEGIN:VTIMEZONE
TZID:Europe/Zurich
X-LIC-LOCATION:Europe/Zurich
END:VTIMEZONE
BEGIN:VEVENT
UID:69e7a0d98458c
DTSTART:20211214T160000Z
SEQUENCE:0
TRANSP:OPAQUE
DTEND:20211214T170000Z
URL:https://zoom.us/webinar/register/WN_VI9jJP0KSJS5ZrI1vVUDCg
LOCATION:No location specified
SUMMARY:Negotiating a Pandemic Treaty: What’s at Stake?
CLASS:PUBLIC
DESCRIPTION:Negotiating a Pandemic Treaty: What’s at Stake? by Vinh-Kim N
 guyen &amp\; Gian Luca Burci.\n\n\n\nEvent connection: https://zoom.us/web
 inar/register/WN_VI9jJP0KSJS5ZrI1vVUDCg
DTSTAMP:20260421T180753Z
END:VEVENT
END:VCALENDAR