BEGIN:VCALENDAR
VERSION:2.0
PRODID:iheid
X-WR-TIMEZONE:Europe/Zurich
BEGIN:VTIMEZONE
TZID:Europe/Zurich
X-LIC-LOCATION:Europe/Zurich
END:VTIMEZONE
BEGIN:VEVENT
UID:69e7beab8570b
DTSTART:20211215T150000Z
SEQUENCE:0
TRANSP:OPAQUE
DTEND:20211215T160000Z
LOCATION:No location specified
SUMMARY:Biosecurity R&D: lessons from the U.S. from pre-Covid to post-Covid
CLASS:PUBLIC
DESCRIPTION:Biosecurity R&amp\;D: lessons from the U.S. from pre-Covid to p
 ost-Covid by Joseph Larsen\, Daniel Gross.\n\n\n\nEvent connection: 
DTSTAMP:20260421T201507Z
END:VEVENT
END:VCALENDAR