BEGIN:VCALENDAR
VERSION:2.0
PRODID:iheid
X-WR-TIMEZONE:Europe/Zurich
BEGIN:VTIMEZONE
TZID:Europe/Zurich
X-LIC-LOCATION:Europe/Zurich
END:VTIMEZONE
BEGIN:VEVENT
UID:69ebe56a0152c
DTSTART:20211220T080000Z
SEQUENCE:0
TRANSP:OPAQUE
DTEND:20211220T100000Z
URL: https://iheid.webex.com/iheid/onstage/g.php?MTID=e5070ab7f13399bbe3976
 26ca6d279c5b
LOCATION:Hybrid Thesis Defence via Cisco Webex
SUMMARY:The Binary Gendering of Individuals in International Law: A plurali
 ty of assembled norms and productive powers of the legal registration of g
 ender
CLASS:PUBLIC
DESCRIPTION:The Binary Gendering of Individuals in International Law: A plu
 rality of assembled norms and productive powers of the legal registration 
 of gender by Ms Lena Holzer.\n\n\n\nEvent connection:  https://iheid.webex
 .com/iheid/onstage/g.php?MTID=e5070ab7f13399bbe397626ca6d279c5b
DTSTAMP:20260424T234930Z
END:VEVENT
END:VCALENDAR