BEGIN:VCALENDAR
VERSION:2.0
PRODID:iheid
X-WR-TIMEZONE:Europe/Zurich
BEGIN:VTIMEZONE
TZID:Europe/Zurich
X-LIC-LOCATION:Europe/Zurich
END:VTIMEZONE
BEGIN:VEVENT
UID:69e9011636bcd
DTSTART:20220120T113000Z
SEQUENCE:0
TRANSP:OPAQUE
DTEND:20220120T121500Z
URL:https://zoom.us/webinar/register/WN_dSP-kP4GR0ejCNz1ddC_1Q
LOCATION:No location specified
SUMMARY:Gestion stratégique de projets de développement FAQ
CLASS:PUBLIC
DESCRIPTION:Gestion stratégique de projets de développement FAQ by Domini
 que Rossier &amp\; Liliana Soler.\n\n\n\nEvent connection: https://zoom.us
 /webinar/register/WN_dSP-kP4GR0ejCNz1ddC_1Q
DTSTAMP:20260422T191046Z
END:VEVENT
END:VCALENDAR