BEGIN:VCALENDAR
VERSION:2.0
PRODID:iheid
X-WR-TIMEZONE:Europe/Zurich
BEGIN:VTIMEZONE
TZID:Europe/Zurich
X-LIC-LOCATION:Europe/Zurich
END:VTIMEZONE
BEGIN:VEVENT
UID:69e8b1d6929b8
DTSTART:20220203T113000Z
SEQUENCE:0
TRANSP:OPAQUE
DTEND:20220203T121500Z
LOCATION:No location specified
SUMMARY:The New Diplomacy of Global Health Q&A
CLASS:PUBLIC
DESCRIPTION:The New Diplomacy of Global Health Q&amp\;A by Vinh-Kim Nguyen\
 , Tammam Aloudat\, Guillemette Carlucci.\n\n\n\nEvent connection: 
DTSTAMP:20260422T133238Z
END:VEVENT
END:VCALENDAR