BEGIN:VCALENDAR
VERSION:2.0
PRODID:iheid
X-WR-TIMEZONE:Europe/Zurich
BEGIN:VTIMEZONE
TZID:Europe/Zurich
X-LIC-LOCATION:Europe/Zurich
END:VTIMEZONE
BEGIN:VEVENT
UID:69e7a0da511b7
DTSTART:20220222T160000Z
SEQUENCE:0
TRANSP:OPAQUE
DTEND:20220222T170000Z
URL:https://zoom.us/webinar/register/WN_5f4x8AvVQ0GaDn37c4NQbA
LOCATION:No location specified
SUMMARY:How to Integrate Fundraising in your Advocacy Strategy?
CLASS:PUBLIC
DESCRIPTION:How to Integrate Fundraising in your Advocacy Strategy? by Davi
 de Rodogno\, Christophe Lécureuil &amp\; Guillemette Carlucci.\n\n\n\nEve
 nt connection: https://zoom.us/webinar/register/WN_5f4x8AvVQ0GaDn37c4NQbA
DTSTAMP:20260421T180754Z
END:VEVENT
END:VCALENDAR