BEGIN:VCALENDAR
VERSION:2.0
PRODID:iheid
X-WR-TIMEZONE:Europe/Zurich
BEGIN:VTIMEZONE
TZID:Europe/Zurich
X-LIC-LOCATION:Europe/Zurich
END:VTIMEZONE
BEGIN:VEVENT
UID:69e930eeb5efe
DTSTART:20220514T070000Z
SEQUENCE:0
TRANSP:OPAQUE
DTEND:20220514T160000Z
URL:https://iheid.webex.com/iheid/onstage/g.php?MTID=e1b856972a3f1eecde417e
 1df26b6bb51
LOCATION:MdP Auditorium A1B and on WebEx&nbsp\;
SUMMARY:Modern transimperial and interimperial histories: forms\, questions
 \, prospects - Day 3
CLASS:PUBLIC
DESCRIPTION:Modern transimperial and interimperial histories: forms\, quest
 ions\, prospects - Day 3 by .\n\n\n\nEvent connection: https://iheid.webex
 .com/iheid/onstage/g.php?MTID=e1b856972a3f1eecde417e1df26b6bb51
DTSTAMP:20260422T223454Z
END:VEVENT
END:VCALENDAR