BEGIN:VCALENDAR
VERSION:2.0
PRODID:iheid
X-WR-TIMEZONE:Europe/Zurich
BEGIN:VTIMEZONE
TZID:Europe/Zurich
X-LIC-LOCATION:Europe/Zurich
END:VTIMEZONE
BEGIN:VEVENT
UID:69e8ad778d379
DTSTART:20220512T071500Z
SEQUENCE:0
TRANSP:OPAQUE
DTEND:20220512T081500Z
URL:https://iheid.webex.com/iheid/onstage/g.php?MTID=e8e8b0b72a3958f30eb567
 006710c1d03
LOCATION:MdP Auditorium A1B and on WebEx
SUMMARY:Now You See It\, Now You Don’t: Changing Sightlines on the Japane
 se Empire
CLASS:PUBLIC
DESCRIPTION:Now You See It\, Now You Don’t: Changing Sightlines on the Ja
 panese Empire by Louise Young.\n\n\n\nEvent connection: https://iheid.webe
 x.com/iheid/onstage/g.php?MTID=e8e8b0b72a3958f30eb567006710c1d03
DTSTAMP:20260422T131359Z
END:VEVENT
END:VCALENDAR