BEGIN:VCALENDAR
VERSION:2.0
PRODID:iheid
X-WR-TIMEZONE:Europe/Zurich
BEGIN:VTIMEZONE
TZID:Europe/Zurich
X-LIC-LOCATION:Europe/Zurich
END:VTIMEZONE
BEGIN:VEVENT
UID:69e7a09594a30
DTSTART:20220222T173000Z
SEQUENCE:0
TRANSP:OPAQUE
DTEND:20220222T190000Z
URL:https://iheid.webex.com/iheid/onstage/g.php?MTID=e8a80c25fa9c2fb37be386
 20c224ff977
LOCATION:Maison de la paix | The Graduate Institute\, Geneva Chemin Eugène
 -Rigot 2\, 1202 Geneva&nbsp\; | Petale 2 | Auditorium A2 &amp\; Online
SUMMARY:Becoming Organic: Nature and Agriculture in the Indian Himalaya
CLASS:PUBLIC
DESCRIPTION:Becoming Organic: Nature and Agriculture in the Indian Himalaya
  by Shaila Seshia Galvin among others\, see programme.\n\n\n\nEvent connec
 tion: https://iheid.webex.com/iheid/onstage/g.php?MTID=e8a80c25fa9c2fb37be
 38620c224ff977
DTSTAMP:20260421T180645Z
END:VEVENT
END:VCALENDAR