BEGIN:VCALENDAR
VERSION:2.0
PRODID:iheid
X-WR-TIMEZONE:Europe/Zurich
BEGIN:VTIMEZONE
TZID:Europe/Zurich
X-LIC-LOCATION:Europe/Zurich
END:VTIMEZONE
BEGIN:VEVENT
UID:69e8cbbf51e1b
DTSTART:20220303T113000Z
SEQUENCE:0
TRANSP:OPAQUE
DTEND:20220303T121500Z
URL:https://zoom.us/webinar/register/WN_Q4zxKi9ISBSJ5ME49PjZ4A
LOCATION:No location specified
SUMMARY:Gestion stratégique de projets de développement FAQ
CLASS:PUBLIC
DESCRIPTION:Gestion stratégique de projets de développement FAQ by Domini
 que Rossier &amp\; Liliana Soler.\n\n\n\nEvent connection: https://zoom.us
 /webinar/register/WN_Q4zxKi9ISBSJ5ME49PjZ4A
DTSTAMP:20260422T152311Z
END:VEVENT
END:VCALENDAR