BEGIN:VCALENDAR
VERSION:2.0
PRODID:iheid
X-WR-TIMEZONE:Europe/Zurich
BEGIN:VTIMEZONE
TZID:Europe/Zurich
X-LIC-LOCATION:Europe/Zurich
END:VTIMEZONE
BEGIN:VEVENT
UID:69e52d0a9d040
DTSTART:20220224T140000Z
SEQUENCE:0
TRANSP:OPAQUE
DTEND:20220224T151500Z
LOCATION:No location specified
SUMMARY:World Bank's Global Economic Prospects Report - Slowing Growth\, Ri
 sing Risks
CLASS:PUBLIC
DESCRIPTION:World Bank&#039\;s Global Economic Prospects Report - Slowing G
 rowth\, Rising Risks by Ayhan Kose (World Bank)\, Franziska Ohnsorge (Worl
 d Bank)\, Silja Baller (WEF) and Ugo Panizza (CFD).\n\n\n\nEvent connectio
 n: 
DTSTAMP:20260419T212914Z
END:VEVENT
END:VCALENDAR