BEGIN:VCALENDAR
VERSION:2.0
PRODID:iheid
X-WR-TIMEZONE:Europe/Zurich
BEGIN:VTIMEZONE
TZID:Europe/Zurich
X-LIC-LOCATION:Europe/Zurich
END:VTIMEZONE
BEGIN:VEVENT
UID:69e7a09c05059
DTSTART:20220209T160000Z
SEQUENCE:0
TRANSP:OPAQUE
DTEND:20220209T170000Z
LOCATION:No location specified
SUMMARY:International Macro History Online Seminar Series
CLASS:PUBLIC
DESCRIPTION:International Macro History Online Seminar Series by Oded Galor
  &amp\; Nathan Sussman.\n\n\n\nEvent connection: 
DTSTAMP:20260421T180652Z
END:VEVENT
END:VCALENDAR