BEGIN:VCALENDAR
VERSION:2.0
PRODID:iheid
X-WR-TIMEZONE:Europe/Zurich
BEGIN:VTIMEZONE
TZID:Europe/Zurich
X-LIC-LOCATION:Europe/Zurich
END:VTIMEZONE
BEGIN:VEVENT
UID:69e52d09c2865
DTSTART:20220216T160000Z
SEQUENCE:0
TRANSP:OPAQUE
DTEND:20220216T170000Z
LOCATION:No location specified
SUMMARY:International Macro History Online Seminar Series
CLASS:PUBLIC
DESCRIPTION:International Macro History Online Seminar Series by Melanie Me
 ng Xue and Boxiao Zhang.\n\n\n\nEvent connection: 
DTSTAMP:20260419T212913Z
END:VEVENT
END:VCALENDAR