BEGIN:VCALENDAR
VERSION:2.0
PRODID:iheid
X-WR-TIMEZONE:Europe/Zurich
BEGIN:VTIMEZONE
TZID:Europe/Zurich
X-LIC-LOCATION:Europe/Zurich
END:VTIMEZONE
BEGIN:VEVENT
UID:69e68f9c7badc
DTSTART:20220223T160000Z
SEQUENCE:0
TRANSP:OPAQUE
DTEND:20220223T170000Z
LOCATION:No location specified
SUMMARY:International Macro History Online Seminar Series
CLASS:PUBLIC
DESCRIPTION:International Macro History Online Seminar Series by Taxation i
 n Africa from Colonial Times to the Present. Evidence from Former French C
 olonies 1900-2018.\n\n\n\nEvent connection: 
DTSTAMP:20260420T224204Z
END:VEVENT
END:VCALENDAR