BEGIN:VCALENDAR
VERSION:2.0
PRODID:iheid
X-WR-TIMEZONE:Europe/Zurich
BEGIN:VTIMEZONE
TZID:Europe/Zurich
X-LIC-LOCATION:Europe/Zurich
END:VTIMEZONE
BEGIN:VEVENT
UID:69e9bed37c138
DTSTART:20220310T151500Z
SEQUENCE:0
TRANSP:OPAQUE
DTEND:20220310T170000Z
URL:https://zoom.us/j/91839235183?pwd=eDBkZTlDNzBIYml2SkVIcjRmSkNNZz09#succ
 ess
LOCATION:MdP Room S7 and Zoom
SUMMARY:Viral Infrastructures: Emergency Operations Centres\, Site Ontology
 \, and Prefigurative Power
CLASS:PUBLIC
DESCRIPTION:Viral Infrastructures: Emergency Operations Centres\, Site Onto
 logy\, and Prefigurative Power by Stefan Elbe.\n\n\n\nEvent connection: ht
 tps://zoom.us/j/91839235183?pwd=eDBkZTlDNzBIYml2SkVIcjRmSkNNZz09#success
DTSTAMP:20260423T084019Z
END:VEVENT
END:VCALENDAR