BEGIN:VCALENDAR
VERSION:2.0
PRODID:iheid
X-WR-TIMEZONE:Europe/Zurich
BEGIN:VTIMEZONE
TZID:Europe/Zurich
X-LIC-LOCATION:Europe/Zurich
END:VTIMEZONE
BEGIN:VEVENT
UID:69e90097d02a0
DTSTART:20220505T103000Z
SEQUENCE:0
TRANSP:OPAQUE
DTEND:20220505T114500Z
URL:https://iheid.webex.com/iheid/j.php?MTID=m640b787688e58a3cbb2e3c1a3b457
 2b4
LOCATION:| Room P1 547 and online
SUMMARY:“Difficult Patients”: Distinction and Inequality of Black Women
  in Reproductive Care
CLASS:PUBLIC
DESCRIPTION:“Difficult Patients”: Distinction and Inequality of Black W
 omen in Reproductive Care by Jaciane Milanezi\, Brazilian Center of Analys
 is and Planning (CEBRAP).\n\n\n\nEvent connection: https://iheid.webex.com
 /iheid/j.php?MTID=m640b787688e58a3cbb2e3c1a3b4572b4
DTSTAMP:20260422T190839Z
END:VEVENT
END:VCALENDAR