BEGIN:VCALENDAR
VERSION:2.0
PRODID:iheid
X-WR-TIMEZONE:Europe/Zurich
BEGIN:VTIMEZONE
TZID:Europe/Zurich
X-LIC-LOCATION:Europe/Zurich
END:VTIMEZONE
BEGIN:VEVENT
UID:69e7a0935726b
DTSTART:20220302T173000Z
SEQUENCE:0
TRANSP:OPAQUE
DTEND:20220302T190000Z
LOCATION:A2 Maison de la Paix\, Genève&nbsp\;and online
SUMMARY:Vivre dans l’Église catholique à l’épreuve des scandales sex
 uels
CLASS:PUBLIC
DESCRIPTION:Vivre dans l’Église catholique à l’épreuve des scandales
  sexuels by Patrick C. Goujon.\n\n\n\nEvent connection: 
DTSTAMP:20260421T180643Z
END:VEVENT
END:VCALENDAR