BEGIN:VCALENDAR
VERSION:2.0
PRODID:iheid
X-WR-TIMEZONE:Europe/Zurich
BEGIN:VTIMEZONE
TZID:Europe/Zurich
X-LIC-LOCATION:Europe/Zurich
END:VTIMEZONE
BEGIN:VEVENT
UID:69e8e5e0800d0
DTSTART:20220315T113000Z
SEQUENCE:0
TRANSP:OPAQUE
DTEND:20220315T123000Z
URL:https://zoom.us/webinar/register/WN_fe_JIv5qQ0a4GbuSOQ7KvQ
LOCATION:at Maison de la Paix (room S8) or Online
SUMMARY:Alumna/Alumnus? Discover our Executive Education programmes!
CLASS:PUBLIC
DESCRIPTION:Alumna/Alumnus? Discover our Executive Education programmes! by
  Mohamed Mahmoud Mohamedou &amp\; Guillemette Carlucci.\n\n\n\nEvent conne
 ction: https://zoom.us/webinar/register/WN_fe_JIv5qQ0a4GbuSOQ7KvQ
DTSTAMP:20260422T171440Z
END:VEVENT
END:VCALENDAR