BEGIN:VCALENDAR
VERSION:2.0
PRODID:iheid
X-WR-TIMEZONE:Europe/Zurich
BEGIN:VTIMEZONE
TZID:Europe/Zurich
X-LIC-LOCATION:Europe/Zurich
END:VTIMEZONE
BEGIN:VEVENT
UID:69e511899f1d0
DTSTART:20220302T160000Z
SEQUENCE:0
TRANSP:OPAQUE
DTEND:20220302T170000Z
LOCATION:No location specified
SUMMARY:International Macro History Online Seminar Series
CLASS:PUBLIC
DESCRIPTION:International Macro History Online Seminar Series by The Rise o
 f the Engineer: Inventing the Professional Inventor During the Industrial 
 Revolution.\n\n\n\nEvent connection: 
DTSTAMP:20260419T193153Z
END:VEVENT
END:VCALENDAR