BEGIN:VCALENDAR
VERSION:2.0
PRODID:iheid
X-WR-TIMEZONE:Europe/Zurich
BEGIN:VTIMEZONE
TZID:Europe/Zurich
X-LIC-LOCATION:Europe/Zurich
END:VTIMEZONE
BEGIN:VEVENT
UID:69e511882708f
DTSTART:20220323T160000Z
SEQUENCE:0
TRANSP:OPAQUE
DTEND:20220323T170000Z
LOCATION:No location specified
SUMMARY:International Macro History Online Seminar Series
CLASS:PUBLIC
DESCRIPTION:International Macro History Online Seminar Series by  Trade\, F
 inancial Development\, and Inequality: Evidence from US Railroads in the 1
 9th Century.\n\n\n\nEvent connection: 
DTSTAMP:20260419T193152Z
END:VEVENT
END:VCALENDAR