BEGIN:VCALENDAR
VERSION:2.0
PRODID:iheid
X-WR-TIMEZONE:Europe/Zurich
BEGIN:VTIMEZONE
TZID:Europe/Zurich
X-LIC-LOCATION:Europe/Zurich
END:VTIMEZONE
BEGIN:VEVENT
UID:69e51188a7188
DTSTART:20220406T150000Z
SEQUENCE:0
TRANSP:OPAQUE
DTEND:20220406T160000Z
LOCATION:No location specified
SUMMARY:International Macro History Online Seminar Series
CLASS:PUBLIC
DESCRIPTION:International Macro History Online Seminar Series by Bourbon Re
 forms\, State Capacity in the Spanish Empire.\n\n\n\nEvent connection: 
DTSTAMP:20260419T193152Z
END:VEVENT
END:VCALENDAR