BEGIN:VCALENDAR
VERSION:2.0
PRODID:iheid
X-WR-TIMEZONE:Europe/Zurich
BEGIN:VTIMEZONE
TZID:Europe/Zurich
X-LIC-LOCATION:Europe/Zurich
END:VTIMEZONE
BEGIN:VEVENT
UID:69e51187a3eb3
DTSTART:20220413T150000Z
SEQUENCE:0
TRANSP:OPAQUE
DTEND:20220413T160000Z
LOCATION:No location specified
SUMMARY:International Macro History Online Seminar Series
CLASS:PUBLIC
DESCRIPTION:International Macro History Online Seminar Series by Riding the
  Bubble or Taken for a Ride? Investors in the British Bicycle Mania.\n\n\n
 \nEvent connection: 
DTSTAMP:20260419T193151Z
END:VEVENT
END:VCALENDAR