BEGIN:VCALENDAR
VERSION:2.0
PRODID:iheid
X-WR-TIMEZONE:Europe/Zurich
BEGIN:VTIMEZONE
TZID:Europe/Zurich
X-LIC-LOCATION:Europe/Zurich
END:VTIMEZONE
BEGIN:VEVENT
UID:69e5118a227e9
DTSTART:20220504T150000Z
SEQUENCE:0
TRANSP:OPAQUE
DTEND:20220504T160000Z
LOCATION:No location specified
SUMMARY:International Macro History Online Seminar Series
CLASS:PUBLIC
DESCRIPTION:International Macro History Online Seminar Series by  The Econo
 mic Consequences of the Opium War.\n\n\n\nEvent connection: 
DTSTAMP:20260419T193154Z
END:VEVENT
END:VCALENDAR