BEGIN:VCALENDAR
VERSION:2.0
PRODID:iheid
X-WR-TIMEZONE:Europe/Zurich
BEGIN:VTIMEZONE
TZID:Europe/Zurich
X-LIC-LOCATION:Europe/Zurich
END:VTIMEZONE
BEGIN:VEVENT
UID:69ed200fe834a
DTSTART:20220315T090000Z
SEQUENCE:0
TRANSP:OPAQUE
DTEND:20220315T100000Z
LOCATION:Room S8\, Maison de la paix and online
SUMMARY:Paths Panel VII: Exploring Paths of Change in the field of Business
  and Human Rights
CLASS:PUBLIC
DESCRIPTION:Paths Panel VII: Exploring Paths of Change in the field of Busi
 ness and Human Rights by Lara Jesani (India)\, Robert McCorquodale (UK) an
 d Kebene Wodajo (Switzerland).\n\n\n\nEvent connection: 
DTSTAMP:20260425T221159Z
END:VEVENT
END:VCALENDAR