BEGIN:VCALENDAR
VERSION:2.0
PRODID:iheid
X-WR-TIMEZONE:Europe/Zurich
BEGIN:VTIMEZONE
TZID:Europe/Zurich
X-LIC-LOCATION:Europe/Zurich
END:VTIMEZONE
BEGIN:VEVENT
UID:69e8aa96aaf8e
DTSTART:20220524T103000Z
SEQUENCE:0
TRANSP:OPAQUE
DTEND:20220524T113000Z
URL:https://iheid.webex.com/iheid/j.php?MTID=m9e2b9ff82be6ca8fd654f0a8e0ee2
 2f5
LOCATION:MdP Room P1-647 and WebEx
SUMMARY:The Rising Sun and a Rising Europe: Japan - European Community rela
 tions on the way to Maastricht (1973-1993)
CLASS:PUBLIC
DESCRIPTION:The Rising Sun and a Rising Europe: Japan - European Community 
 relations on the way to Maastricht (1973-1993) by .\n\n\n\nEvent connectio
 n: https://iheid.webex.com/iheid/j.php?MTID=m9e2b9ff82be6ca8fd654f0a8e0ee2
 2f5
DTSTAMP:20260422T130142Z
END:VEVENT
END:VCALENDAR