BEGIN:VCALENDAR
VERSION:2.0
PRODID:iheid
X-WR-TIMEZONE:Europe/Zurich
BEGIN:VTIMEZONE
TZID:Europe/Zurich
X-LIC-LOCATION:Europe/Zurich
END:VTIMEZONE
BEGIN:VEVENT
UID:69e8ad7fa2cc8
DTSTART:20220427T103000Z
SEQUENCE:0
TRANSP:OPAQUE
DTEND:20220427T113000Z
URL:https://iheid.webex.com/iheid/j.php?MTID=m8e54677f49ad3059ff9bf2dbf05aa
 6b5
LOCATION:MdP Room S3 and WebEx
SUMMARY:The politics of women's rights at the United Nations: a transnation
 al diplomatic history of the Convention on the Elimination of All Forms of
  Discrimination Against Women (1974-1979)
CLASS:PUBLIC
DESCRIPTION:The politics of women&#039\;s rights at the United Nations: a t
 ransnational diplomatic history of the Convention on the Elimination of Al
 l Forms of Discrimination Against Women (1974-1979) by .\n\n\n\nEvent conn
 ection: https://iheid.webex.com/iheid/j.php?MTID=m8e54677f49ad3059ff9bf2db
 f05aa6b5
DTSTAMP:20260422T131407Z
END:VEVENT
END:VCALENDAR