BEGIN:VCALENDAR
VERSION:2.0
PRODID:iheid
X-WR-TIMEZONE:Europe/Zurich
BEGIN:VTIMEZONE
TZID:Europe/Zurich
X-LIC-LOCATION:Europe/Zurich
END:VTIMEZONE
BEGIN:VEVENT
UID:69e9010748214
DTSTART:20220315T180000Z
SEQUENCE:0
TRANSP:OPAQUE
DTEND:20220315T200000Z
LOCATION:No location specified
SUMMARY:Réception avec le chapitre de Paris à l'Ambassade de Suisse
CLASS:PUBLIC
DESCRIPTION:Réception avec le chapitre de Paris à l&#039\;Ambassade de Su
 isse by Amandeep Singh Gill &amp\; Florence G’sell .\n\n\n\nEvent connec
 tion: 
DTSTAMP:20260422T191031Z
END:VEVENT
END:VCALENDAR