BEGIN:VCALENDAR
VERSION:2.0
PRODID:iheid
X-WR-TIMEZONE:Europe/Zurich
BEGIN:VTIMEZONE
TZID:Europe/Zurich
X-LIC-LOCATION:Europe/Zurich
END:VTIMEZONE
BEGIN:VEVENT
UID:69e7a09c86046
DTSTART:20220323T170000Z
SEQUENCE:0
TRANSP:OPAQUE
DTEND:20220323T184500Z
URL: https://iheid.webex.com/iheid/onstage/g.php?MTID=e9b66e572adab38b5d4d3
 8a745182bc26
LOCATION:Maison de la paix | The Graduate Institute\, Geneva Chemin Eugène
 -Rigot 2\, 1202 Geneva&nbsp\; | Pétale 2 | Auditoire A1A &amp\; en ligne
SUMMARY:Face au désert\, cultiver la résilience
CLASS:PUBLIC
DESCRIPTION:Face au désert\, cultiver la résilience by Christophe Gironde
  among others\, see programme..\n\n\n\nEvent connection:  https://iheid.we
 bex.com/iheid/onstage/g.php?MTID=e9b66e572adab38b5d4d38a745182bc26
DTSTAMP:20260421T180652Z
END:VEVENT
END:VCALENDAR