BEGIN:VCALENDAR
VERSION:2.0
PRODID:iheid
X-WR-TIMEZONE:Europe/Zurich
BEGIN:VTIMEZONE
TZID:Europe/Zurich
X-LIC-LOCATION:Europe/Zurich
END:VTIMEZONE
BEGIN:VEVENT
UID:69e7a09acf490
DTSTART:20220315T173000Z
SEQUENCE:0
TRANSP:OPAQUE
DTEND:20220315T190000Z
LOCATION:Maison de la Paix\, Geneva&nbsp\;
SUMMARY:AI in the Future
CLASS:PUBLIC
DESCRIPTION:AI in the Future by Project group of Faculty of Law\, Universit
 y of Ljubljana is co-organising with the Graduate Institute Geneva .\n\n\n
 \nEvent connection: 
DTSTAMP:20260421T180650Z
END:VEVENT
END:VCALENDAR