BEGIN:VCALENDAR
VERSION:2.0
PRODID:iheid
X-WR-TIMEZONE:Europe/Zurich
BEGIN:VTIMEZONE
TZID:Europe/Zurich
X-LIC-LOCATION:Europe/Zurich
END:VTIMEZONE
BEGIN:VEVENT
UID:69e8f2b6469cd
DTSTART:20230316T171500Z
SEQUENCE:0
TRANSP:OPAQUE
DTEND:20230316T183000Z
LOCATION:Auditorium&nbsp\;A2\, Maison de la paix\, Geneva
SUMMARY:The Iran Nuclear File: Reflections on Twenty Years of Negotiation
CLASS:PUBLIC
DESCRIPTION:The Iran Nuclear File: Reflections on Twenty Years of Negotiati
 on by .\n\n\n\nEvent connection: 
DTSTAMP:20260422T180926Z
END:VEVENT
END:VCALENDAR