BEGIN:VCALENDAR
VERSION:2.0
PRODID:iheid
X-WR-TIMEZONE:Europe/Zurich
BEGIN:VTIMEZONE
TZID:Europe/Zurich
X-LIC-LOCATION:Europe/Zurich
END:VTIMEZONE
BEGIN:VEVENT
UID:69e8e69341ce4
DTSTART:20220330T110000Z
SEQUENCE:0
TRANSP:OPAQUE
DTEND:20220330T120000Z
LOCATION:No location specified
SUMMARY:International Relations & Political Science Roundtable
CLASS:PUBLIC
DESCRIPTION:International Relations &amp\; Political Science Roundtable by 
 .\n\n\n\nEvent connection: 
DTSTAMP:20260422T171739Z
END:VEVENT
END:VCALENDAR