BEGIN:VCALENDAR
VERSION:2.0
PRODID:iheid
X-WR-TIMEZONE:Europe/Zurich
BEGIN:VTIMEZONE
TZID:Europe/Zurich
X-LIC-LOCATION:Europe/Zurich
END:VTIMEZONE
BEGIN:VEVENT
UID:69e8cbba9d6db
DTSTART:20220328T110000Z
SEQUENCE:0
TRANSP:OPAQUE
DTEND:20220328T120000Z
LOCATION:No location specified
SUMMARY:ANSO & International History Roundtable 
CLASS:PUBLIC
DESCRIPTION:ANSO &amp\; International History Roundtable  by .\n\n\n\nEvent
  connection: 
DTSTAMP:20260422T152306Z
END:VEVENT
END:VCALENDAR