BEGIN:VCALENDAR
VERSION:2.0
PRODID:iheid
X-WR-TIMEZONE:Europe/Zurich
BEGIN:VTIMEZONE
TZID:Europe/Zurich
X-LIC-LOCATION:Europe/Zurich
END:VTIMEZONE
BEGIN:VEVENT
UID:69e4f92b549dc
DTSTART:20220317T131500Z
SEQUENCE:0
TRANSP:OPAQUE
DTEND:20220317T143000Z
LOCATION:--- Due to unforeseen circumstances\, this research seminar has be
 en postponed to a later date. Details yet to be confirmed. ---
SUMMARY:The political economy of Africa’s links with Asian Financial Cent
 res: the cases of Dubai\, Singapore and Hong Kong
CLASS:PUBLIC
DESCRIPTION:The political economy of Africa’s links with Asian Financial 
 Centres: the cases of Dubai\, Singapore and Hong Kong by Ricardo Soares de
  Oliveira.\n\n\n\nEvent connection: 
DTSTAMP:20260419T174755Z
END:VEVENT
END:VCALENDAR