BEGIN:VCALENDAR
VERSION:2.0
PRODID:iheid
X-WR-TIMEZONE:Europe/Zurich
BEGIN:VTIMEZONE
TZID:Europe/Zurich
X-LIC-LOCATION:Europe/Zurich
END:VTIMEZONE
BEGIN:VEVENT
UID:69e7a0af4f446
DTSTART:20220531T110000Z
SEQUENCE:0
TRANSP:OPAQUE
DTEND:20220531T130000Z
LOCATION:Online
SUMMARY:Environmental Protection in Antarctica\; Temptations and Accountabi
 lity
CLASS:PUBLIC
DESCRIPTION:Environmental Protection in Antarctica\; Temptations and Accoun
 tability by Various speakers\, see programme.\n\n\n\nEvent connection: 
DTSTAMP:20260421T180711Z
END:VEVENT
END:VCALENDAR