BEGIN:VCALENDAR
VERSION:2.0
PRODID:iheid
X-WR-TIMEZONE:Europe/Zurich
BEGIN:VTIMEZONE
TZID:Europe/Zurich
X-LIC-LOCATION:Europe/Zurich
END:VTIMEZONE
BEGIN:VEVENT
UID:69e91989a3d03
DTSTART:20220510T103000Z
SEQUENCE:0
TRANSP:OPAQUE
DTEND:20220510T111500Z
URL:https://zoom.us/webinar/register/WN_QJ0xL4meQPWhPgzwMeXDFA
LOCATION:No location specified
SUMMARY:Diversity\, Inclusion\, and the Issue of Racism Q&A
CLASS:PUBLIC
DESCRIPTION:Diversity\, Inclusion\, and the Issue of Racism Q&amp\;A by Gui
 llemette Carlucci &amp\; Jimmye Johnson.\n\n\n\nEvent connection: https://
 zoom.us/webinar/register/WN_QJ0xL4meQPWhPgzwMeXDFA
DTSTAMP:20260422T205505Z
END:VEVENT
END:VCALENDAR