BEGIN:VCALENDAR
VERSION:2.0
PRODID:iheid
X-WR-TIMEZONE:Europe/Zurich
BEGIN:VTIMEZONE
TZID:Europe/Zurich
X-LIC-LOCATION:Europe/Zurich
END:VTIMEZONE
BEGIN:VEVENT
UID:69e7a0aedac57
DTSTART:20220422T120000Z
SEQUENCE:0
TRANSP:OPAQUE
DTEND:20220422T130000Z
LOCATION:No location specified
SUMMARY:INTERNATIONAL ROLES AND RULES IN DETECTING AND RESPONDING TO OUTBRE
 AKS
CLASS:PUBLIC
DESCRIPTION:INTERNATIONAL ROLES AND RULES IN DETECTING AND RESPONDING TO OU
 TBREAKS by Gian Luca Burci.\n\n\n\nEvent connection: 
DTSTAMP:20260421T180710Z
END:VEVENT
END:VCALENDAR