BEGIN:VCALENDAR
VERSION:2.0
PRODID:iheid
X-WR-TIMEZONE:Europe/Zurich
BEGIN:VTIMEZONE
TZID:Europe/Zurich
X-LIC-LOCATION:Europe/Zurich
END:VTIMEZONE
BEGIN:VEVENT
UID:69e4f92a585fc
DTSTART:20220509T161500Z
SEQUENCE:0
TRANSP:OPAQUE
DTEND:20220509T173000Z
LOCATION:Room S8
SUMMARY:How to Achieve Inclusive Growth
CLASS:PUBLIC
DESCRIPTION:How to Achieve Inclusive Growth by Valerie Cerra\, Assistant Di
 rector\, Fiscal Affairs Department\, International Monetary Fund.\n\n\n\nE
 vent connection: 
DTSTAMP:20260419T174754Z
END:VEVENT
END:VCALENDAR