BEGIN:VCALENDAR
VERSION:2.0
PRODID:iheid
X-WR-TIMEZONE:Europe/Zurich
BEGIN:VTIMEZONE
TZID:Europe/Zurich
X-LIC-LOCATION:Europe/Zurich
END:VTIMEZONE
BEGIN:VEVENT
UID:69e8cbc942cef
DTSTART:20220425T103000Z
SEQUENCE:0
TRANSP:OPAQUE
DTEND:20220425T113000Z
URL:https://zoom.us/webinar/register/WN_XhTaXDtlRUaS_Vswquv3uQ
LOCATION:No location specified
SUMMARY:The 3 Major Trends Shaping the Sustainable & Impact Investing Space
CLASS:PUBLIC
DESCRIPTION:The 3 Major Trends Shaping the Sustainable &amp\; Impact Invest
 ing Space by Bertrand Gacon &amp\; Dawid Bastiat-Jarosz.\n\n\n\nEvent conn
 ection: https://zoom.us/webinar/register/WN_XhTaXDtlRUaS_Vswquv3uQ
DTSTAMP:20260422T152321Z
END:VEVENT
END:VCALENDAR