BEGIN:VCALENDAR
VERSION:2.0
PRODID:iheid
X-WR-TIMEZONE:Europe/Zurich
BEGIN:VTIMEZONE
TZID:Europe/Zurich
X-LIC-LOCATION:Europe/Zurich
END:VTIMEZONE
BEGIN:VEVENT
UID:69e8e69558ead
DTSTART:20220412T170000Z
SEQUENCE:0
TRANSP:OPAQUE
DTEND:20220412T193000Z
LOCATION:No location specified
SUMMARY:Réception avec le chapitre de Zürich
CLASS:PUBLIC
DESCRIPTION:Réception avec le chapitre de Zürich by Andréa M. Maechler\,
  Marie Owens Thomsen &amp\; Nathan Sussman.\n\n\n\nEvent connection: 
DTSTAMP:20260422T171741Z
END:VEVENT
END:VCALENDAR