BEGIN:VCALENDAR
VERSION:2.0
PRODID:iheid
X-WR-TIMEZONE:Europe/Zurich
BEGIN:VTIMEZONE
TZID:Europe/Zurich
X-LIC-LOCATION:Europe/Zurich
END:VTIMEZONE
BEGIN:VEVENT
UID:69e86b0849a77
DTSTART:20220426T163000Z
SEQUENCE:0
TRANSP:OPAQUE
DTEND:20220426T173000Z
LOCATION:Maison de la Paix\, Auditorium A2
SUMMARY:The Right of Peoples to Self-determination in the 21st Century
CLASS:PUBLIC
DESCRIPTION:The Right of Peoples to Self-determination in the 21st Century 
 by .\n\n\n\nEvent connection: 
DTSTAMP:20260422T083032Z
END:VEVENT
END:VCALENDAR