BEGIN:VCALENDAR
VERSION:2.0
PRODID:iheid
X-WR-TIMEZONE:Europe/Zurich
BEGIN:VTIMEZONE
TZID:Europe/Zurich
X-LIC-LOCATION:Europe/Zurich
END:VTIMEZONE
BEGIN:VEVENT
UID:69e7a083499ac
DTSTART:20220426T150000Z
SEQUENCE:0
TRANSP:OPAQUE
DTEND:20220426T163000Z
URL:https://iheid.webex.com/wbxmjs/joinservice/sites/iheid/meeting/download
 /809912b497d4491291df39cc5ff7e942?siteurl=iheid&MTID=md7919a814a9f94ff0ae6
 5838ef4fc9f6
LOCATION:MdP Room P2-S9 and on Webex
SUMMARY:Roadblock Politics: the Origins of Violence in Central Africa
CLASS:PUBLIC
DESCRIPTION:Roadblock Politics: the Origins of Violence in Central Africa b
 y .\n\n\n\nEvent connection: https://iheid.webex.com/wbxmjs/joinservice/si
 tes/iheid/meeting/download/809912b497d4491291df39cc5ff7e942?siteurl=iheid&
 amp\;MTID=md7919a814a9f94ff0ae65838ef4fc9f6
DTSTAMP:20260421T180627Z
END:VEVENT
END:VCALENDAR