BEGIN:VCALENDAR
VERSION:2.0
PRODID:iheid
X-WR-TIMEZONE:Europe/Zurich
BEGIN:VTIMEZONE
TZID:Europe/Zurich
X-LIC-LOCATION:Europe/Zurich
END:VTIMEZONE
BEGIN:VEVENT
UID:69e7b93c71f28
DTSTART:20220726T120000Z
SEQUENCE:0
TRANSP:OPAQUE
DTEND:20220726T123000Z
LOCATION:No location specified
SUMMARY:Online information session for admitted students
CLASS:PUBLIC
DESCRIPTION:Online information session for admitted students by .\n\n\n\nEv
 ent connection: 
DTSTAMP:20260421T195156Z
END:VEVENT
END:VCALENDAR