BEGIN:VCALENDAR
VERSION:2.0
PRODID:iheid
X-WR-TIMEZONE:Europe/Zurich
BEGIN:VTIMEZONE
TZID:Europe/Zurich
X-LIC-LOCATION:Europe/Zurich
END:VTIMEZONE
BEGIN:VEVENT
UID:69e8b20b8a2e4
DTSTART:20220427T150000Z
SEQUENCE:0
TRANSP:OPAQUE
DTEND:20220427T160000Z
URL:https://zoom.us/webinar/register/WN_S3ZLyoGCRBm6hOmH06syFA
LOCATION:No location specified
SUMMARY:Diversity and Geopolitics: Issues and Challenges
CLASS:PUBLIC
DESCRIPTION:Diversity and Geopolitics: Issues and Challenges by Mohamed Mah
 moud Mohamedou\, Davide Rodogno.\n\n\n\nEvent connection: https://zoom.us/
 webinar/register/WN_S3ZLyoGCRBm6hOmH06syFA
DTSTAMP:20260422T133331Z
END:VEVENT
END:VCALENDAR