BEGIN:VCALENDAR
VERSION:2.0
PRODID:iheid
X-WR-TIMEZONE:Europe/Zurich
BEGIN:VTIMEZONE
TZID:Europe/Zurich
X-LIC-LOCATION:Europe/Zurich
END:VTIMEZONE
BEGIN:VEVENT
UID:69e779e6963e4
DTSTART:20220428T150000Z
SEQUENCE:0
TRANSP:OPAQUE
DTEND:20220428T163000Z
LOCATION:Auditorium A2\, Maison de la paix
SUMMARY:International Organisations and Cities: An Accelerating relationshi
 p Reshaping Both?
CLASS:PUBLIC
DESCRIPTION:International Organisations and Cities: An Accelerating relatio
 nship Reshaping Both? by Various speakers\, see programme.\n\n\n\nEvent co
 nnection: 
DTSTAMP:20260421T152142Z
END:VEVENT
END:VCALENDAR