BEGIN:VCALENDAR
VERSION:2.0
PRODID:iheid
X-WR-TIMEZONE:Europe/Zurich
BEGIN:VTIMEZONE
TZID:Europe/Zurich
X-LIC-LOCATION:Europe/Zurich
END:VTIMEZONE
BEGIN:VEVENT
UID:69e8b1ae412e9
DTSTART:20220502T103000Z
SEQUENCE:0
TRANSP:OPAQUE
DTEND:20220502T111500Z
URL:https://zoom.us/webinar/register/WN_BN3b0HaPT_ycRxWItd6qdg
LOCATION:No location specified
SUMMARY:International Negotiation & Policy-Making Q&A
CLASS:PUBLIC
DESCRIPTION:International Negotiation &amp\; Policy-Making Q&amp\;A by Guil
 lemette Carlucci\, Jimmye Johnson.\n\n\n\nEvent connection: https://zoom.u
 s/webinar/register/WN_BN3b0HaPT_ycRxWItd6qdg
DTSTAMP:20260422T133158Z
END:VEVENT
END:VCALENDAR