BEGIN:VCALENDAR
VERSION:2.0
PRODID:iheid
X-WR-TIMEZONE:Europe/Zurich
BEGIN:VTIMEZONE
TZID:Europe/Zurich
X-LIC-LOCATION:Europe/Zurich
END:VTIMEZONE
BEGIN:VEVENT
UID:69e910589a497
DTSTART:20220411T161500Z
SEQUENCE:0
TRANSP:OPAQUE
DTEND:20220411T171500Z
URL:https://iheid.webex.com/wbxmjs/joinservice/sites/iheid/meeting/download
 /15b17a5186cb4f17b7c8ede70e2dd61d?siteurl=iheid&MTID=mf88325753e8d5b8ba5d2
 3e809975ec63
LOCATION:MdP Room P2-S9 and on WebEx
SUMMARY:Yes Ukraine\, but what about…
CLASS:PUBLIC
DESCRIPTION:Yes Ukraine\, but what about… by .\n\n\n\nEvent connection: h
 ttps://iheid.webex.com/wbxmjs/joinservice/sites/iheid/meeting/download/15b
 17a5186cb4f17b7c8ede70e2dd61d?siteurl=iheid&amp\;MTID=mf88325753e8d5b8ba5d
 23e809975ec63
DTSTAMP:20260422T201552Z
END:VEVENT
END:VCALENDAR