BEGIN:VCALENDAR
VERSION:2.0
PRODID:iheid
X-WR-TIMEZONE:Europe/Zurich
BEGIN:VTIMEZONE
TZID:Europe/Zurich
X-LIC-LOCATION:Europe/Zurich
END:VTIMEZONE
BEGIN:VEVENT
UID:69e717998852d
DTSTART:20221028T070000Z
SEQUENCE:0
TRANSP:OPAQUE
DTEND:20221028T160000Z
URL:https://iheid.webex.com/iheid/j.php?RGID=r80ed6bfd59909b76823b538a499e2
 543
LOCATION:Auditorium Ivan Pictet\, Maison de la paix&nbsp\;
SUMMARY:Geneva Summit on Africa
CLASS:PUBLIC
DESCRIPTION:Geneva Summit on Africa by .\n\n\n\nEvent connection: https://i
 heid.webex.com/iheid/j.php?RGID=r80ed6bfd59909b76823b538a499e2543
DTSTAMP:20260421T082217Z
END:VEVENT
END:VCALENDAR