BEGIN:VCALENDAR
VERSION:2.0
PRODID:iheid
X-WR-TIMEZONE:Europe/Zurich
BEGIN:VTIMEZONE
TZID:Europe/Zurich
X-LIC-LOCATION:Europe/Zurich
END:VTIMEZONE
BEGIN:VEVENT
UID:69e9198894ce2
DTSTART:20220517T103000Z
SEQUENCE:0
TRANSP:OPAQUE
DTEND:20220517T111500Z
URL:https://zoom.us/webinar/register/WN_dxnSnq7rSeK55L_joG6HPA
LOCATION:No location specified
SUMMARY:Environmental Governance & Policy-Making Q&A
CLASS:PUBLIC
DESCRIPTION:Environmental Governance &amp\; Policy-Making Q&amp\;A by Danie
 la Morich\, Jimmye Johnson.\n\n\n\nEvent connection: https://zoom.us/webin
 ar/register/WN_dxnSnq7rSeK55L_joG6HPA
DTSTAMP:20260422T205504Z
END:VEVENT
END:VCALENDAR